BEGIN:VCALENDAR
VERSION:2.0
PRODID:-//Trawler-Calendar-Tool 0.2
METHOD:PUBLISH
BEGIN:VTIMEZONE
TZID:Europe/Berlin
BEGIN:STANDARD
TZNAME:CET
DTSTART:20100101T010000
RRULE:FREQ=YEARLY;BYDAY=-1SU;BYMONTH=10
TZOFFSETFROM:+0200
TZOFFSETTO:+0100
END:STANDARD
BEGIN:DAYLIGHT
TZNAME:CEST
DTSTART:20100101T010000
RRULE:FREQ=YEARLY;BYDAY=-1SU;BYMONTH=3
TZOFFSETFROM:+0100
TZOFFSETTO:+0200
END:DAYLIGHT
END:VTIMEZONE
X-WR-TIMEZONE:Europe/Berlin
X-ORIGINAL-URL:https://www.spd-heddesheim.de/termine/
BEGIN:VEVENT
DTSTART;TZID=Europe/Berlin:20260927T110000
DTEND;TZID=Europe/Berlin:20260927T150000
LOCATION:
SUMMARY:Kinder-Rallye durch Heddesheim
DESCRIPTION:
 
 Entdecken\, rätseln und
   Spaß haben: Unsere neue Kinder-Rallye durch
   Heddesheim lädt Familien ein\, die Gemeinde spielerisch zu
   erkunden.
 
 An verschiedenen Stationen warten spannende Aufgaben
   und kleine Herausforderungen\, die Teamgeist und Kreativität
   fördern. Die Rallye eignet sich besonders für Kinder im
   Grundschulalter und kann flexibel absolviert werden.
 
 Weitere
   Informationen zu Ablauf und Anmeldung folgen in Kürze.
X-ALT-DESC;FMTTYPE=text/plain:
 
 Entdecken\, r&auml\;tseln und
   Spa&szlig\; haben: Unsere neue&nbsp\;Kinder-Rallye durch
   Heddesheim&nbsp\;l&auml\;dt Familien ein\, die Gemeinde spielerisch zu
   erkunden.
 
 An verschiedenen Stationen warten spannende Aufgaben
   und kleine Herausforderungen\, die Teamgeist und Kreativit&auml\;t
   f&ouml\;rdern. Die Rallye eignet sich besonders f&uuml\;r Kinder im
   Grundschulalter und kann flexibel absolviert werden.
 
 Weitere
   Informationen zu Ablauf und Anmeldung folgen in K&uuml\;rze.
PRIORITY:5
UID:wscms192512-hedd-0bcd8cd1d351cea3fb74e3bf447da139
URL:https://www.spd-heddesheim.de/calendar192512.ics
END:VEVENT
END:VCALENDAR